Workbook

Sheet XML
A1: 1. Bier und Weinkeller | L1: Kostet: | M1: 145000
A2: Ausgaben | G2: Einnahmen | M2: Gewinn
A3: Input | B3: Preis / 1.000 L | C3: Input Menge/Zyklus | D3: Zyklen | E3: Verbrqauch/Tag | F3: Ausgabe/Monat | G3: Export | H3: Preis / 1.000 L | I3: Output Menge/Zyklus | J3: Zyklen | K3: Erzeugnis/Tag | L3: Einnahmen/Monat | M3: Gewinn / Linie | N3: =M4+M10 -> 29279.52
A4: Gerste | B4: =_xlfn.XLOOKUP(A4,Preisliste!A:A,Preisliste!B:B,"nicht gefunden") -> 335 | C4: 300 | D4: 24 | E4: =D4*C4 -> 7200 | F4: =(E4/1000)*B4 -> 2412 | G4: Bier | H4: =_xlfn.XLOOKUP(G4,Preisliste!A:A,Preisliste!B:B,"nicht gefunden") -> 1420 | I4: 600 | J4: =D4 -> 24 | K4: =I4*J4 -> 14400 | L4: =(K4/1000)*H4 -> 20448 | M4: =L4-F4-F5-F6-F7-F8+L5 -> 16825.92
A5: Hopfen | B5: =_xlfn.XLOOKUP(A5,Preisliste!A:A,Preisliste!B:B,"nicht gefunden") -> 360 | C5: 100 | D5: =D4 -> 24 | E5: =D5*C5 -> 2400 | F5: =(E5/1000)*B5 -> 864 | G5: OrganischeAbfall | H5: =_xlfn.XLOOKUP(G5,Preisliste!A:A,Preisliste!B:B,"nicht gefunden") -> 30 | I5: 40 | J5: =D4 -> 24 | K5: =I5*J5 -> 960 | L5: =(K5/1000)*H5 -> 28.8
A6: Wasser | B6: =_xlfn.XLOOKUP(A6,Preisliste!A:A,Preisliste!B:B,"nicht gefunden") -> 0 | C6: 300 | D6: =D4 -> 24 | E6: =D6*C6 -> 7200 | F6: =(E6/1000)*B6 -> 0
A7: Metall | B7: =_xlfn.XLOOKUP(A7,Preisliste!A:A,Preisliste!B:B,"nicht gefunden") -> 3000 | C7: 5 | D7: 24 | E7: =D7*C7 -> 120 | F7: =(E7/1000)*B7 -> 360
A8: Hefe | B8: =_xlfn.XLOOKUP(A8,Preisliste!A:A,Preisliste!B:B,"nicht gefunden") -> 310 | C8: 2 | D8: =D7 -> 24 | E8: =D8*C8 -> 48 | F8: =(E8/1000)*B8 -> 14.88
A9: Input | B9: Preis / 1.000 L | C9: Input Menge/Zyklus | D9: Zyklen | E9: Verbrqauch/Tag | F9: Ausgabe/Monat | G9: Export | H9: Preis / 1.000 L | I9: Output Menge/Zyklus | J9: Zyklen | K9: Erzeugnis/Tag | L9: Einnahmen/Monat | M9: Gewinn / Linie
A10: Trauben | B10: =_xlfn.XLOOKUP(A10,Preisliste!A:A,Preisliste!B:B,"nicht gefunden") -> 720 | C10: 150 | D10: 24 | E10: =D10*C10 -> 3600 | F10: =(E10/1000)*B10 -> 2592 | G10: Wein | H10: =_xlfn.XLOOKUP(G10,Preisliste!A:A,Preisliste!B:B,"nicht gefunden") -> 2180 | I10: 300 | J10: =D10 -> 24 | K10: =I10*J10 -> 7200 | L10: =(K10/1000)*H10 -> 15696 | M10: =L10-F10-F11-F12+L11 -> 12453.6
A11: Zucker | B11: =_xlfn.XLOOKUP(A11,Preisliste!A:A,Preisliste!B:B,"nicht gefunden") -> 525 | C11: 20 | D11: =D10 -> 24 | E11: =D11*C11 -> 480 | F11: =(E11/1000)*B11 -> 252 | G11: OrganischeAbfall | H11: =_xlfn.XLOOKUP(G11,Preisliste!A:A,Preisliste!B:B,"nicht gefunden") -> 30 | I11: 40 | J11: =D11 -> 24 | K11: =I11*J11 -> 960 | L11: =(K11/1000)*H11 -> 28.8
A12: Fass | B12: =_xlfn.XLOOKUP(A12,Preisliste!A:A,Preisliste!B:B,"nicht gefunden") -> 1780 | C12: 10 | D12: =D10 -> 24 | E12: =D12*C12 -> 240 | F12: =(E12/1000)*B12 -> 427.2
A14: 2. Brennerei | L14: Kostet: | M14: 150000
A15: Ausgaben | G15: Einnahmen | M15: Gewinn
A16: Input | B16: Preis / 1.000 L | C16: Input Menge/Zyklus | D16: Zyklen | E16: Verbrqauch/Tag | F16: Ausgabe/Monat | G16: Export | H16: Preis / 1.000 L | I16: Output Menge/Zyklus | J16: Zyklen | K16: Erzeugnis/Tag | L16: Einnahmen/Monat | M16: Gewinn / Linie | N16: =M17+M23+M28+M32+M38+M43+M46+M52 -> 58256.88
A17: Trockenmais | B17: =_xlfn.XLOOKUP(A17,Preisliste!A:A,Preisliste!B:B,"nicht gefunden") -> 920 | C17: 200 | D17: 24 | E17: =D17*C17 -> 4800 | F17: =(E17/1000)*B17 -> 4416 | G17: Bourbon | H17: =_xlfn.XLOOKUP(G17,Preisliste!A:A,Preisliste!B:B,"nicht gefunden") -> 2200 | I17: 300 | J17: =D17 -> 24 | K17: =I17*J17 -> 7200 | L17: =(K17/1000)*H17 -> 15840 | M17: =L17-F17-F18-F19-F20-F21+L18 -> 8622
A18: Wasser | B18: =_xlfn.XLOOKUP(A18,Preisliste!A:A,Preisliste!B:B,"nicht gefunden") -> 0 | C18: 300 | D18: =D17 -> 24 | E18: =D18*C18 -> 7200 | F18: =(E18/1000)*B18 -> 0 | G18: OrganischeAbfall | H18: =_xlfn.XLOOKUP(G18,Preisliste!A:A,Preisliste!B:B,"nicht gefunden") -> 30 | I18: 50 | J18: =D17 -> 24 | K18: =I18*J18 -> 1200 | L18: =(K18/1000)*H18 -> 36
A19: Weizen | B19: =_xlfn.XLOOKUP(A19,Preisliste!A:A,Preisliste!B:B,"nicht gefunden") -> 360 | C19: 250 | D19: =D17 -> 24 | E19: =D19*C19 -> 6000 | F19: =(E19/1000)*B19 -> 2160
A20: Fass | B20: =_xlfn.XLOOKUP(A20,Preisliste!A:A,Preisliste!B:B,"nicht gefunden") -> 1780 | C20: 15 | D20: 24 | E20: =D20*C20 -> 360 | F20: =(E20/1000)*B20 -> 640.8
A21: Hefe | B21: =_xlfn.XLOOKUP(A21,Preisliste!A:A,Preisliste!B:B,"nicht gefunden") -> 310 | C21: 5 | D21: =D20 -> 24 | E21: =D21*C21 -> 120 | F21: =(E21/1000)*B21 -> 37.2
A22: Input | B22: Preis / 1.000 L | C22: Input Menge/Zyklus | D22: Zyklen | E22: Verbrqauch/Tag | F22: Ausgabe/Monat | G22: Export | H22: Preis / 1.000 L | I22: Output Menge/Zyklus | J22: Zyklen | K22: Erzeugnis/Tag | L22: Einnahmen/Monat | M22: Gewinn / Linie
A23: Pflaumen | B23: =_xlfn.XLOOKUP(A23,Preisliste!A:A,Preisliste!B:B,"nicht gefunden") -> 640 | C23: 200 | D23: 24 | E23: =D23*C23 -> 4800 | F23: =(E23/1000)*B23 -> 3072 | G23: Brandy | H23: =_xlfn.XLOOKUP(G23,Preisliste!A:A,Preisliste!B:B,"nicht gefunden") -> 2150 | I23: 280 | J23: =D23 -> 24 | K23: =I23*J23 -> 6720 | L23: =(K23/1000)*H23 -> 14448 | M23: =L23-F23-F24-F25-F26+L24 -> 9404.64
A24: Wasser | B24: =_xlfn.XLOOKUP(A24,Preisliste!A:A,Preisliste!B:B,"nicht gefunden") -> 0 | C24: 150 | D24: =D23 -> 24 | E24: =D24*C24 -> 3600 | F24: =(E24/1000)*B24 -> 0 | G24: OrganischeAbfall | H24: =_xlfn.XLOOKUP(G24,Preisliste!A:A,Preisliste!B:B,"nicht gefunden") -> 30 | I24: 80 | J24: =D23 -> 24 | K24: =I24*J24 -> 1920 | L24: =(K24/1000)*H24 -> 57.6
A25: Zucker | B25: =_xlfn.XLOOKUP(A25,Preisliste!A:A,Preisliste!B:B,"nicht gefunden") -> 525 | C25: 100 | D25: =D23 -> 24 | E25: =D25*C25 -> 2400 | F25: =(E25/1000)*B25 -> 1260
A26: Fass | B26: =_xlfn.XLOOKUP(A26,Preisliste!A:A,Preisliste!B:B,"nicht gefunden") -> 1780 | C26: 18 | D26: 24 | E26: =D26*C26 -> 432 | F26: =(E26/1000)*B26 -> 768.96
A27: Input | B27: Preis / 1.000 L | C27: Input Menge/Zyklus | D27: Zyklen | E27: Verbrqauch/Tag | F27: Ausgabe/Monat | G27: Export | H27: Preis / 1.000 L | I27: Output Menge/Zyklus | J27: Zyklen | K27: Erzeugnis/Tag | L27: Einnahmen/Monat | M27: Gewinn / Linie
A28: Äpfel | B28: =_xlfn.XLOOKUP(A28,Preisliste!A:A,Preisliste!B:B,"nicht gefunden") -> 720 | C28: 300 | D28: 24 | E28: =D28*C28 -> 7200 | F28: =(E28/1000)*B28 -> 5184 | G28: Cider | H28: =_xlfn.XLOOKUP(G28,Preisliste!A:A,Preisliste!B:B,"nicht gefunden") -> 2100 | I28: 250 | J28: =D28 -> 24 | K28: =I28*J28 -> 6000 | L28: =(K28/1000)*H28 -> 12600 | M28: =L28-F28-F29-F30+L29 -> 5316
A29: Zucker | B29: =_xlfn.XLOOKUP(A29,Preisliste!A:A,Preisliste!B:B,"nicht gefunden") -> 525 | C29: 100 | D29: =D28 -> 24 | E29: =D29*C29 -> 2400 | F29: =(E29/1000)*B29 -> 1260 | G29: OrganischeAbfall | H29: =_xlfn.XLOOKUP(G29,Preisliste!A:A,Preisliste!B:B,"nicht gefunden") -> 30 | I29: 20 | J29: =D29 -> 24 | K29: =I29*J29 -> 480 | L29: =(K29/1000)*H29 -> 14.4
A30: Fass | B30: =_xlfn.XLOOKUP(A30,Preisliste!A:A,Preisliste!B:B,"nicht gefunden") -> 1780 | C30: 20 | D30: =D28 -> 24 | E30: =D30*C30 -> 480 | F30: =(E30/1000)*B30 -> 854.4
A31: Input | B31: Preis / 1.000 L | C31: Input Menge/Zyklus | D31: Zyklen | E31: Verbrqauch/Tag | F31: Ausgabe/Monat | G31: Export | H31: Preis / 1.000 L | I31: Output Menge/Zyklus | J31: Zyklen | K31: Erzeugnis/Tag | L31: Einnahmen/Monat | M31: Gewinn / Linie
A32: Gerste | B32: =_xlfn.XLOOKUP(A32,Preisliste!A:A,Preisliste!B:B,"nicht gefunden") -> 335 | C32: 200 | D32: 24 | E32: =D32*C32 -> 4800 | F32: =(E32/1000)*B32 -> 1608 | G32: Fruchtlikör | H32: =_xlfn.XLOOKUP(G32,Preisliste!A:A,Preisliste!B:B,"nicht gefunden") -> 2550 | I32: 200 | J32: =D32 -> 24 | K32: =I32*J32 -> 4800 | L32: =(K32/1000)*H32 -> 12240 | M32: =L32-F32-F33-F34-F35-F36+L33 -> 6917.04
A33: Wasser | B33: =_xlfn.XLOOKUP(A33,Preisliste!A:A,Preisliste!B:B,"nicht gefunden") -> 0 | C33: 300 | D33: =D32 -> 24 | E33: =D33*C33 -> 7200 | F33: =(E33/1000)*B33 -> 0 | G33: OrganischeAbfall | H33: =_xlfn.XLOOKUP(G33,Preisliste!A:A,Preisliste!B:B,"nicht gefunden") -> 30 | I33: 50 | J33: =D32 -> 24 | K33: =I33*J33 -> 1200 | L33: =(K33/1000)*H33 -> 36
A34: Erdbeeren | B34: =_xlfn.XLOOKUP(A34,Preisliste!A:A,Preisliste!B:B,"nicht gefunden") -> 490 | C34: 200 | D34: =D32 -> 24 | E34: =D34*C34 -> 4800 | F34: =(E34/1000)*B34 -> 2352
A35: Zucker | B35: =_xlfn.XLOOKUP(A35,Preisliste!A:A,Preisliste!B:B,"nicht gefunden") -> 525 | C35: 50 | D35: 24 | E35: =D35*C35 -> 1200 | F35: =(E35/1000)*B35 -> 630
A36: Fass | B36: =_xlfn.XLOOKUP(A36,Preisliste!A:A,Preisliste!B:B,"nicht gefunden") -> 1780 | C36: 18 | D36: =D35 -> 24 | E36: =D36*C36 -> 432 | F36: =(E36/1000)*B36 -> 768.96
A37: Input | B37: Preis / 1.000 L | C37: Input Menge/Zyklus | D37: Zyklen | E37: Verbrqauch/Tag | F37: Ausgabe/Monat | G37: Export | H37: Preis / 1.000 L | I37: Output Menge/Zyklus | J37: Zyklen | K37: Erzeugnis/Tag | L37: Einnahmen/Monat | M37: Gewinn / Linie
A38: Honig | B38: =_xlfn.XLOOKUP(A38,Preisliste!A:A,Preisliste!B:B,"nicht gefunden") -> 1050 | C38: 80 | D38: 24 | E38: =D38*C38 -> 1920 | F38: =(E38/1000)*B38 -> 2016 | G38: Honigmet | H38: =_xlfn.XLOOKUP(G38,Preisliste!A:A,Preisliste!B:B,"nicht gefunden") -> 2580 | I38: 150 | J38: =D38 -> 24 | K38: =I38*J38 -> 3600 | L38: =(K38/1000)*H38 -> 9288 | M38: =L38-F38-F39-F40-F41+L39 -> 6843.6
A39: Wasser | B39: =_xlfn.XLOOKUP(A39,Preisliste!A:A,Preisliste!B:B,"nicht gefunden") -> 0 | C39: 160 | D39: =D38 -> 24 | E39: =D39*C39 -> 3840 | F39: =(E39/1000)*B39 -> 0 | G39: OrganischeAbfall | H39: =_xlfn.XLOOKUP(G39,Preisliste!A:A,Preisliste!B:B,"nicht gefunden") -> 30 | I39: 50 | J39: =D38 -> 24 | K39: =I39*J39 -> 1200 | L39: =(K39/1000)*H39 -> 36
A40: Fass | B40: =_xlfn.XLOOKUP(A40,Preisliste!A:A,Preisliste!B:B,"nicht gefunden") -> 1780 | C40: 10 | D40: =D38 -> 24 | E40: =D40*C40 -> 240 | F40: =(E40/1000)*B40 -> 427.2
A41: Hefe | B41: =_xlfn.XLOOKUP(A41,Preisliste!A:A,Preisliste!B:B,"nicht gefunden") -> 310 | C41: 5 | D41: 24 | E41: =D41*C41 -> 120 | F41: =(E41/1000)*B41 -> 37.2
...

Sheet Preisliste
A1: Produkt | B1: Preis | C1: Produktion | D1: Verbrauch | E1: Differenz
A2: Äpfel | B2: 720 | D2: 12600 | E2: =Tabelle1[[#This Row],[Produktion]]-Tabelle1[[#This Row],[Verbrauch]] -> -12600
A3: Apfelsaft | B3: 2005 | C3: 3600 | E3: =Tabelle1[[#This Row],[Produktion]]-Tabelle1[[#This Row],[Verbrauch]] -> 3600
A4: Aprikosen | B4: 880 | D4: 3600 | E4: =Tabelle1[[#This Row],[Produktion]]-Tabelle1[[#This Row],[Verbrauch]] -> -3600
A5: Aprikosensaft | B5: 2200 | C5: 3600 | E5: =Tabelle1[[#This Row],[Produktion]]-Tabelle1[[#This Row],[Verbrauch]] -> 3600
A6: Aubergine | B6: 610 | D6: 5160 | E6: =Tabelle1[[#This Row],[Produktion]]-Tabelle1[[#This Row],[Verbrauch]] -> -5160
A7: Auberginenpüree | B7: 750 | C7: 7200 | E7: =Tabelle1[[#This Row],[Produktion]]-Tabelle1[[#This Row],[Verbrauch]] -> 7200
A8: Austernpilz | B8: 950 | E8: =Tabelle1[[#This Row],[Produktion]]-Tabelle1[[#This Row],[Verbrauch]] -> 0
A9: Binden | B9: 2120 | E9: =Tabelle1[[#This Row],[Produktion]]-Tabelle1[[#This Row],[Verbrauch]] -> 0
A10: Badewanne | B10: 1740 | E10: =Tabelle1[[#This Row],[Produktion]]-Tabelle1[[#This Row],[Verbrauch]] -> 0
A11: Bagel | B11: 1580 | C11: 3360 | E11: =Tabelle1[[#This Row],[Produktion]]-Tabelle1[[#This Row],[Verbrauch]] -> 3360
A12: Baguette | B12: 1400 | C12: 4560 | E12: =Tabelle1[[#This Row],[Produktion]]-Tabelle1[[#This Row],[Verbrauch]] -> 4560
A13: Baumwolle | B13: 1200 | D13: 33600 | E13: =Tabelle1[[#This Row],[Produktion]]-Tabelle1[[#This Row],[Verbrauch]] -> -33600
A14: Betonziegel | B14: 1610 | E14: =Tabelle1[[#This Row],[Produktion]]-Tabelle1[[#This Row],[Verbrauch]] -> 0
A15: Bier | B15: 1420 | C15: 14400 | E15: =Tabelle1[[#This Row],[Produktion]]-Tabelle1[[#This Row],[Verbrauch]] -> 14400
A16: Birnen | B16: 830 | D16: 3600 | E16: =Tabelle1[[#This Row],[Produktion]]-Tabelle1[[#This Row],[Verbrauch]] -> -3600
A17: Birnensaft | B17: 2090 | C17: 3600 | E17: =Tabelle1[[#This Row],[Produktion]]-Tabelle1[[#This Row],[Verbrauch]] -> 3600
A18: Blumenkohl | B18: 820 | D18: 2400 | E18: =Tabelle1[[#This Row],[Produktion]]-Tabelle1[[#This Row],[Verbrauch]] -> -2400
A19: Bohnensuppe | B19: 590 | C19: 14400 | E19: =Tabelle1[[#This Row],[Produktion]]-Tabelle1[[#This Row],[Verbrauch]] -> 14400
A20: Bohnensäcke | B20: 1130 | C20: 6000 | E20: =Tabelle1[[#This Row],[Produktion]]-Tabelle1[[#This Row],[Verbrauch]] -> 6000
A21: Bourbon | B21: 2200 | C21: 7200 | E21: =Tabelle1[[#This Row],[Produktion]]-Tabelle1[[#This Row],[Verbrauch]] -> 7200
A22: Brandy | B22: 2150 | C22: 6720 | E22: =Tabelle1[[#This Row],[Produktion]]-Tabelle1[[#This Row],[Verbrauch]] -> 6720
A23: Bretter | B23: 1400 | C23: 9840 | D23: 6000 | E23: =Tabelle1[[#This Row],[Produktion]]-Tabelle1[[#This Row],[Verbrauch]] -> 3840
A24: Brot | B24: 1900 | C24: 2880 | D24: 2400 | E24: =Tabelle1[[#This Row],[Produktion]]-Tabelle1[[#This Row],[Verbrauch]] -> 480
A25: Büffelmilch | B25: 3750 | D25: 19680 | E25: =Tabelle1[[#This Row],[Produktion]]-Tabelle1[[#This Row],[Verbrauch]] -> -19680
A26: Büffelmilch (abgefüllt) | B26: 2730 | C26: 6000 | E26: =Tabelle1[[#This Row],[Produktion]]-Tabelle1[[#This Row],[Verbrauch]] -> 6000
A27: Büffelmozzarella | B27: 8000 | C27: 3360 | E27: =Tabelle1[[#This Row],[Produktion]]-Tabelle1[[#This Row],[Verbrauch]] -> 3360
A28: Buschbohnen | B28: 760 | D28: 21600 | E28: =Tabelle1[[#This Row],[Produktion]]-Tabelle1[[#This Row],[Verbrauch]] -> -21600
A29: Butter | B29: 1200 | C29: 56400 | D29: 5040 | E29: =Tabelle1[[#This Row],[Produktion]]-Tabelle1[[#This Row],[Verbrauch]] -> 51360
A30: Chillischoten | B30: 500 | D30: 11352 | E30: =Tabelle1[[#This Row],[Produktion]]-Tabelle1[[#This Row],[Verbrauch]] -> -11352
A31: Chinakohl | B31: 380 | D31: 960 | E31: =Tabelle1[[#This Row],[Produktion]]-Tabelle1[[#This Row],[Verbrauch]] -> -960
A32: Cider | B32: 2100 | C32: 6000 | E32: =Tabelle1[[#This Row],[Produktion]]-Tabelle1[[#This Row],[Verbrauch]] -> 6000
A33: Dachplatte | B33: 1580 | E33: =Tabelle1[[#This Row],[Produktion]]-Tabelle1[[#This Row],[Verbrauch]] -> 0
A34: Diesel | B34: 1200 | C34: 55200 | D34: 2400 | E34: =Tabelle1[[#This Row],[Produktion]]-Tabelle1[[#This Row],[Verbrauch]] -> 52800
A35: Dinkel | B35: 420 | D35: 25200 | E35: =Tabelle1[[#This Row],[Produktion]]-Tabelle1[[#This Row],[Verbrauch]] -> -25200
A36: Dosenbohnen | B36: 1300 | C36: 5280 | E36: =Tabelle1[[#This Row],[Produktion]]-Tabelle1[[#This Row],[Verbrauch]] -> 5280
A37: Dosenerbsen | B37: 2660 | C37: 2880 | E37: =Tabelle1[[#This Row],[Produktion]]-Tabelle1[[#This Row],[Verbrauch]] -> 2880
A38: Dreierlei-Suppen | B38: 940 | C38: 4080 | E38: =Tabelle1[[#This Row],[Produktion]]-Tabelle1[[#This Row],[Verbrauch]] -> 4080
A39: Eier | B39: 1400 | D39: 18912 | E39: =Tabelle1[[#This Row],[Produktion]]-Tabelle1[[#This Row],[Verbrauch]] -> -18912
A40: Eimer | B40: 1290 | E40: =Tabelle1[[#This Row],[Produktion]]-Tabelle1[[#This Row],[Verbrauch]] -> 0
...
